BEGIN:VCALENDAR
VERSION:2.0
METHOD:PUBLISH
PRODID:-//Telerik Inc.//Sitefinity CMS 12.2//EN
BEGIN:VEVENT
DESCRIPTION:
DTEND;VALUE=DATE:20170413
DTSTAMP:20210521T023719Z
DTSTART;VALUE=DATE:20170412
LOCATION:
SEQUENCE:0
SUMMARY:American Axle & Manufacturing\, Inc. en la Cumbre Automotriz de Ban
 k of America Merrill Lynch New York
UID:RFCALITEM637571614390244504
X-ALT-DESC;FMTTYPE=text/html:
END:VEVENT
END:VCALENDAR
