BEGIN:VCALENDAR
VERSION:2.0
METHOD:PUBLISH
PRODID:-//Telerik Inc.//Sitefinity CMS 12.2//EN
BEGIN:VEVENT
DESCRIPTION:
DTEND;VALUE=DATE:20170413
DTSTAMP:20210521T023730Z
DTSTART;VALUE=DATE:20170412
LOCATION:
SEQUENCE:0
SUMMARY:American Axle & Manufacturing\, Inc. no Bank of America Merrill Lyn
 ch New York Automotive Summit
UID:RFCALITEM637571614502945757
X-ALT-DESC;FMTTYPE=text/html:
END:VEVENT
END:VCALENDAR
