BEGIN:VCALENDAR
VERSION:2.0
METHOD:PUBLISH
PRODID:-//Telerik Inc.//Sitefinity CMS 12.2//EN
BEGIN:VEVENT
DESCRIPTION:
DTEND;VALUE=DATE:20170413
DTSTAMP:20210521T023736Z
DTSTART;VALUE=DATE:20170412
LOCATION:
SEQUENCE:0
SUMMARY:美国车桥制造有限公司将出席美国银行美林纽约汽车峰会
UID:RFCALITEM637571614565316893
X-ALT-DESC;FMTTYPE=text/html:
END:VEVENT
END:VCALENDAR
