BEGIN:VCALENDAR
VERSION:2.0
METHOD:PUBLISH
PRODID:-//Telerik Inc.//Sitefinity CMS 12.2//EN
BEGIN:VEVENT
DESCRIPTION:
DTEND;VALUE=DATE:20161201
DTSTAMP:20210521T023619Z
DTSTART;VALUE=DATE:20161130
LOCATION:
SEQUENCE:0
SUMMARY:American Axle & Manufacturing\, Inc. en la Conferencia de Financiam
 iento Apalancado de Bank of America Merrill Lynch 2016
UID:RFCALITEM637571613798312918
X-ALT-DESC;FMTTYPE=text/html:
END:VEVENT
END:VCALENDAR
