BEGIN:VCALENDAR
VERSION:2.0
METHOD:PUBLISH
PRODID:-//Telerik Inc.//Sitefinity CMS 12.2//EN
BEGIN:VEVENT
DESCRIPTION:
DTEND;VALUE=DATE:20161201
DTSTAMP:20210521T023631Z
DTSTART;VALUE=DATE:20161130
LOCATION:
SEQUENCE:0
SUMMARY:American Axle & Manufacturing\, Inc. na Confer&ecirc\;ncia Financei
 ra de Alavancagem 2016 do Bank of America Merrill Lynch
UID:RFCALITEM637571613913959730
X-ALT-DESC;FMTTYPE=text/html:
END:VEVENT
END:VCALENDAR
