BEGIN:VCALENDAR
VERSION:2.0
METHOD:PUBLISH
PRODID:-//Telerik Inc.//Sitefinity CMS 12.2//EN
BEGIN:VEVENT
DESCRIPTION:
DTEND;VALUE=DATE:20161201
DTSTAMP:20210521T023637Z
DTSTART;VALUE=DATE:20161130
LOCATION:
SEQUENCE:0
SUMMARY:美国车桥制造有限公司出席 2016 年美国银行美林杠杆融资会议
UID:RFCALITEM637571613973963174
X-ALT-DESC;FMTTYPE=text/html:
END:VEVENT
END:VCALENDAR
