BEGIN:VCALENDAR
VERSION:2.0
METHOD:PUBLISH
PRODID:-//Telerik Inc.//Sitefinity CMS 12.2//EN
BEGIN:VTIMEZONE
TZID:Eastern Standard Time
BEGIN:STANDARD
DTSTART:20201102T020000
RRULE:FREQ=YEARLY;BYDAY=1SU;BYHOUR=2;BYMINUTE=0;BYMONTH=11
TZNAME:Eastern Standard Time
TZOFFSETFROM:-0400
TZOFFSETTO:-0500
END:STANDARD
BEGIN:DAYLIGHT
DTSTART:20200301T020000
RRULE:FREQ=YEARLY;BYDAY=2SU;BYHOUR=2;BYMINUTE=0;BYMONTH=3
TZNAME:Eastern Daylight Time
TZOFFSETFROM:-0500
TZOFFSETTO:-0400
END:DAYLIGHT
END:VTIMEZONE
BEGIN:VEVENT
DESCRIPTION:&nbsp\;
DTEND:20170210T160000Z
DTSTAMP:20210521T023658Z
DTSTART:20170210T150000Z
LOCATION:
SEQUENCE:0
SUMMARY:Conferencia telef&oacute\;nica sobre los resultados del cuarto trim
 estre de 2016 de American Axle & Manufacturing\, Inc.
UID:RFCALITEM637571614180713503
X-ALT-DESC;FMTTYPE=text/html:&nbsp\;
END:VEVENT
END:VCALENDAR
